BEGIN:VCALENDAR
VERSION:2.0
PRODID:-//hacksw/handcal//NONSGML v1.0//EN
BEGIN:VEVENT
DTSTART:20260423T000000
DTEND:20260423T235900
LOCATION:Centre de Congrès de Lyon
ORGANIZER;CN=:MAILTO:
SUMMARY:Journée de la copropriété Lyon -Rhône
DESCRIPTION:(En savoir plus et lien vers l'évènement Site web (URL) : https://www.unis-immo.fr/)
URL:https://ambassadeurs.onlylyon.com/fr/event/journee-de-la-copropriete-lyon-rhone/2026/04/23/609
BEGIN:VALARM
TRIGGER:-P0DT1H0M0S
ACTION:DISPLAY
END:VALARM
END:VEVENT
END:VCALENDAR