BEGIN:VCALENDAR
VERSION:2.0
PRODID:-//hacksw/handcal//NONSGML v1.0//EN
BEGIN:VEVENT
DTSTART:20260424T000000
DTEND:20260426T235900
LOCATION:Eurexpo - Parc des Expositions
ORGANIZER;CN=:MAILTO:
SUMMARY:art3f - Salon international d'art contemporain
DESCRIPTION:Pour sa 12ème édition, c’est à EUREXPO qu’art3f prendra ses quartiers pendant 3 jours ! \nAu programme : un partage d’émotions avec les artistes et les galeristes, de l’art abordable, des artistes...
URL:https://ambassadeurs.onlylyon.com/fr/event/art3f-salon-international-d-art-contemporain/2026/04/24/579
BEGIN:VALARM
TRIGGER:-P0DT1H0M0S
ACTION:DISPLAY
END:VALARM
END:VEVENT
END:VCALENDAR