BEGIN:VCALENDAR
VERSION:2.0
PRODID:-//hacksw/handcal//NONSGML v1.0//EN
BEGIN:VEVENT
DTSTART:20251115T000000
DTEND:20251115T200000
LOCATION:LDLC Arena
ORGANIZER;CN=:MAILTO:
SUMMARY:Vitaa
DESCRIPTION:Chanteuse, mais également auteur-compositrice, VITAA fait ses premiers pas dans l’univers R’n’B dès le début des années 2000. Le succès de son hit « Confessions nocturnes » en collaboration avec...
URL:https://ambassadeurs.onlylyon.com/fr/event/vitaa/2025/11/15/473
BEGIN:VALARM
TRIGGER:-P0DT1H0M0S
ACTION:DISPLAY
END:VALARM
END:VEVENT
END:VCALENDAR