BEGIN:VCALENDAR
VERSION:2.0
PRODID:-//hacksw/handcal//NONSGML v1.0//EN
BEGIN:VEVENT
DTSTART:20260426T000000
DTEND:20260426T200000
LOCATION:Halle Tony Garnier
ORGANIZER;CN=:MAILTO:
SUMMARY:15000 voix pour les légendes du rock
DESCRIPTION:Imaginez une armée de 15 000 voix s'unissant pour revisiter les plus grandes légendes du rock, Queen, The Rolling Stones, AC/DC et bien d'autres. Des classiques intemporels aux hymnes modernes, ces...
URL:https://ambassadeurs.onlylyon.com/fr/event/15000-voix-pour-les-legendes-du-rock/2026/04/26/457
BEGIN:VALARM
TRIGGER:-P0DT1H0M0S
ACTION:DISPLAY
END:VALARM
END:VEVENT
END:VCALENDAR