BEGIN:VCALENDAR
VERSION:2.0
PRODID:-//hacksw/handcal//NONSGML v1.0//EN
BEGIN:VEVENT
DTSTART:20260418T000000
DTEND:20260418T200000
LOCATION:Halle Tony Garnier
ORGANIZER;CN=:MAILTO:
SUMMARY:Ultra Vomit
DESCRIPTION:Tu es un jeune cadre dynamique qui travaille 23h43 par jour pour un salaire qu'il n'a plus le temps de dépenser ?\nTu es un chômeur tellement invétéré que tu as peur de devenir un pauvre invertébré ? ...
URL:https://ambassadeurs.onlylyon.com/fr/event/ultra-vomit/2026/04/18/452
BEGIN:VALARM
TRIGGER:-P0DT1H0M0S
ACTION:DISPLAY
END:VALARM
END:VEVENT
END:VCALENDAR