BEGIN:VCALENDAR
VERSION:2.0
PRODID:-//hacksw/handcal//NONSGML v1.0//EN
BEGIN:VEVENT
DTSTART:20260417T000000
DTEND:20260419T235900
LOCATION:Double Mixte
ORGANIZER;CN=:MAILTO:
SUMMARY:Reperkusound
DESCRIPTION:Son objectif est de rayonner au niveau régional, mais aussi national et européen, avec une programmation à la fois audacieuse et populaire, faisant la part belle aux créations, aux découvertes...
URL:https://ambassadeurs.onlylyon.com/fr/event/reperkusound/2026/04/17/407
BEGIN:VALARM
TRIGGER:-P0DT1H0M0S
ACTION:DISPLAY
END:VALARM
END:VEVENT
END:VCALENDAR