BEGIN:VCALENDAR
VERSION:2.0
PRODID:-//hacksw/handcal//NONSGML v1.0//EN
BEGIN:VEVENT
DTSTART:20250222T090000Z
DTEND:20250223T180000Z
LOCATION:Eurexpo Lyon - Parc des expositions  \nAvenue Louis Blériot \n69680 CHASSIEU
ORGANIZER;CN=Celia Daultier:MAILTO:celia.daultier@onlylyon.com
SUMMARY:Marhaba Expo
DESCRIPTION:Marhaba Expo est un évènement de partage où tout le monde est le bienvenu. C'est l'endroit idéal pour découvrir la richesse de la culture orientale, les coutumes et les valeurs de ces...
URL:https://ambassadeurs.onlylyon.com/fr/event/marhaba-expo/2025/02/22/342
BEGIN:VALARM
TRIGGER:-P0DT1H0M0S
ACTION:DISPLAY
END:VALARM
END:VEVENT
END:VCALENDAR